BEGIN:VCALENDAR
VERSION:2.0
PRODID:-//Tukios.com/
BEGIN:VEVENT
UID:56689c1e-4c91-42f8-83c0-4e2b8507c59e@www.heuserfunerals.com
DTSTAMP:20260422T014659Z
DTSTART:20260422T190000Z
DTEND:20260422T200000Z
SUMMARY:Funeral Service
DESCRIPTION:
URL:https://www.heuserfunerals.com/obituaries/darrell-edwards
LOCATION: 320 E Walnut St  Rich Hill MO 64779
GEO:38.0979325;-94.3657066
END:VEVENT
END:VCALENDAR