BEGIN:VCALENDAR
VERSION:2.0
PRODID:-//Tukios.com/
BEGIN:VEVENT
UID:a2c886af-4517-45b5-937a-5114b3dff154@www.heuserfunerals.com
DTSTAMP:20260422T014526Z
DTSTART:20260422T180000Z
DTEND:20260422T190000Z
SUMMARY:Visitation
DESCRIPTION:
URL:https://www.heuserfunerals.com/obituaries/darrell-edwards
LOCATION: 320 E Walnut St  Rich Hill MO 64779
GEO:38.0979325;-94.3657066
END:VEVENT
END:VCALENDAR